BEGIN:VCALENDAR
VERSION:2.0
PRODID:-//Plone.org//NONSGML plone.app.event//EN
X-WR-TIMEZONE:Europe/Rome
BEGIN:VEVENT
SUMMARY:Sclerosi Multipla e cura di sé. Parliamo di alimentazione
DTSTART;VALUE=DATE:20220624
DTEND;VALUE=DATE:20220625
DTSTAMP;VALUE=DATE-TIME:20260422T205706Z
UID:f180cfdf2d9d4e8d92141b40c2d76668@127.0.0.1:8095
CREATED;VALUE=DATE-TIME:20220607T113547Z
DESCRIPTION:A cura del nutrizionista Luca Valeriani. Incontro online apert
 o a tutti.
LAST-MODIFIED;VALUE=DATE-TIME:20221129T151622Z
URL:https://www.ausl.bologna.it/istituto-delle-scienze-neurologiche/appunt
 amenti-dellistituto/archivio/eventi-passati/sclerosi-multipla-e-cura-di-se
 -parliamo-di-alimentazione
END:VEVENT
END:VCALENDAR
