BEGIN:VCALENDAR
VERSION:2.0
PRODID:-//Plone.org//NONSGML plone.app.event//EN
X-WR-TIMEZONE:Europe/Rome
BEGIN:VEVENT
SUMMARY:Scale di valutazione nella Sclerosi Multipla: tra progetto riabilt
 iativo e monitoraggio funzionale
DTSTART;VALUE=DATE:20211026
DTEND;VALUE=DATE:20211027
DTSTAMP;VALUE=DATE-TIME:20260422T224050Z
UID:78a5690c44f04d469eeb07f6116479c2@127.0.0.1:8095
CREATED;VALUE=DATE-TIME:20210917T152433Z
DESCRIPTION:ATTENZIONE: webinar rimandato!
LAST-MODIFIED;VALUE=DATE-TIME:20221129T151632Z
URL:https://www.ausl.bologna.it/istituto-delle-scienze-neurologiche/appunt
 amenti-dellistituto/archivio/eventi-passati/scale-di-valutazione-nella-scl
 erosi-multipla-tra-progetto-riabiltiativo-e-monitoraggio-funzionale
END:VEVENT
END:VCALENDAR
