BEGIN:VCALENDAR
VERSION:2.0
PRODID:-//Plone.org//NONSGML plone.app.event//EN
X-WR-TIMEZONE:Europe/Rome
BEGIN:VEVENT
SUMMARY:Riunione Regionale SIN SNO Emilia-Romagna
DTSTART;VALUE=DATE:20210122
DTEND;VALUE=DATE:20210123
DTSTAMP;VALUE=DATE-TIME:20260423T021807Z
UID:725d54fe527a412091015cea0a536081@127.0.0.1:8095
ATTENDEE;CN="Responsabile Scientifico: Andrea Zini";ROLE=REQ-PARTICIPANT:R
 esponsabile Scientifico: Andrea Zini
CONTACT:https://sezioniregionalisin.it/
CREATED;VALUE=DATE-TIME:20210115T114953Z
DESCRIPTION:Digital Congress
LAST-MODIFIED;VALUE=DATE-TIME:20221129T151637Z
URL:https://www.ausl.bologna.it/istituto-delle-scienze-neurologiche/appunt
 amenti-dellistituto/archivio/eventi-passati/riunione-regionale-sin-sno-emi
 lia-romagna
END:VEVENT
END:VCALENDAR
