BEGIN:VCALENDAR
VERSION:2.0
PRODID:-//Plone.org//NONSGML plone.app.event//EN
X-WR-TIMEZONE:Europe/Rome
BEGIN:VEVENT
SUMMARY:Riabilitazione e esercizio terapeutico nella SLA
DTSTART;VALUE=DATE:20210525
DTEND;VALUE=DATE:20210526
DTSTAMP;VALUE=DATE-TIME:20260423T021817Z
UID:205f90556dba4b63840037bd0575c2a1@127.0.0.1:8095
ATTENDEE;CN="David Milletti, Medicina Riabilitativa IRCCS Istituto delle S
 cienze Neurologiche di Bologna";ROLE=REQ-PARTICIPANT:David Milletti, Medic
 ina Riabilitativa IRCCS Istituto delle Scienze Neurologiche di Bologna
CREATED;VALUE=DATE-TIME:20210510T110959Z
DESCRIPTION:Seminari IRCCS - Blu
LAST-MODIFIED;VALUE=DATE-TIME:20221129T151636Z
URL:https://www.ausl.bologna.it/istituto-delle-scienze-neurologiche/appunt
 amenti-dellistituto/archivio/eventi-passati/riabilitazione-e-esercizio-ter
 apeutico
END:VEVENT
END:VCALENDAR
