BEGIN:VCALENDAR
VERSION:2.0
PRODID:-//Plone.org//NONSGML plone.app.event//EN
X-WR-TIMEZONE:Europe/Rome
BEGIN:VEVENT
SUMMARY:Qualità di vita per le persone con malattie neuromuscolari. Verso
  un diritto possibile?
DTSTART;VALUE=DATE:20211203
DTEND;VALUE=DATE:20211204
DTSTAMP;VALUE=DATE-TIME:20260422T223725Z
UID:eee250a6be814f83ae78b169ecb079da@127.0.0.1:8095
CREATED;VALUE=DATE-TIME:20211123T145918Z
DESCRIPTION:In presenza
LAST-MODIFIED;VALUE=DATE-TIME:20221129T151630Z
URL:https://www.ausl.bologna.it/istituto-delle-scienze-neurologiche/appunt
 amenti-dellistituto/archivio/eventi-passati/qualita-di-vita-per-le-persone
 -con-malattie-neuromuscolari-verso-un-diritto-possibile
END:VEVENT
END:VCALENDAR
