BEGIN:VCALENDAR
VERSION:2.0
PRODID:-//Plone.org//NONSGML plone.app.event//EN
X-WR-TIMEZONE:Europe/Rome
BEGIN:VEVENT
SUMMARY:Prognosi Emorragia intracerebrale
DTSTART;VALUE=DATE:20220201
DTEND;VALUE=DATE:20220202
DTSTAMP;VALUE=DATE-TIME:20260422T223337Z
UID:db556bcaef8f4fbc9838243a77933be8@127.0.0.1:8095
CREATED;VALUE=DATE-TIME:20220117T133317Z
DESCRIPTION:seminario IRCCS - Giallo
LAST-MODIFIED;VALUE=DATE-TIME:20221129T151628Z
URL:https://www.ausl.bologna.it/istituto-delle-scienze-neurologiche/appunt
 amenti-dellistituto/archivio/eventi-passati/prognosi-ich
END:VEVENT
END:VCALENDAR
