BEGIN:VCALENDAR
VERSION:2.0
PRODID:-//Plone.org//NONSGML plone.app.event//EN
X-WR-TIMEZONE:Europe/Rome
BEGIN:VEVENT
SUMMARY:Preserving the Brain
DTSTART;VALUE=DATE:20221006
DTEND;VALUE=DATE:20221007
DTSTAMP;VALUE=DATE-TIME:20260422T205440Z
UID:cc8968f893cf46478cd2faa70cfe0038@127.0.0.1:8095
CREATED;VALUE=DATE-TIME:20220908T111511Z
DESCRIPTION:Convegno scientifico
LAST-MODIFIED;VALUE=DATE-TIME:20221129T151621Z
LOCATION:Cinema della Fondazione Prada a Milano
URL:https://www.ausl.bologna.it/istituto-delle-scienze-neurologiche/appunt
 amenti-dellistituto/archivio/eventi-passati/preserving-the-brain
END:VEVENT
END:VCALENDAR
