BEGIN:VCALENDAR
VERSION:2.0
PRODID:-//Plone.org//NONSGML plone.app.event//EN
X-WR-TIMEZONE:Europe/Rome
BEGIN:VEVENT
SUMMARY:Presentazione del Percorso diagnostico terapeutico assistenziale p
 er le persone con ictus cerebrale
DTSTART;VALUE=DATE:20210929
DTEND;VALUE=DATE:20210930
DTSTAMP;VALUE=DATE-TIME:20260422T223703Z
UID:ec6328a5c74640d2a1b67d14d28826a0@127.0.0.1:8095
CONTACT:https://intranet.internal.ausl.bologna.it/news/current/auslnews.20
 21-09-23.4216969044
CREATED;VALUE=DATE-TIME:20210929T085123Z
LAST-MODIFIED;VALUE=DATE-TIME:20221129T151632Z
URL:https://www.ausl.bologna.it/istituto-delle-scienze-neurologiche/appunt
 amenti-dellistituto/archivio/eventi-passati/presentazione-del-percorso-dia
 gnostico-terapeutico-assistenziale-per-le-persone-con-ictus-cerebrale
END:VEVENT
END:VCALENDAR
