BEGIN:VCALENDAR
VERSION:2.0
PRODID:-//Plone.org//NONSGML plone.app.event//EN
X-WR-TIMEZONE:Europe/Rome
BEGIN:VEVENT
SUMMARY:Presentazione Bussole IRCCS - Materiale biologico IRCCS
DTSTART;VALUE=DATE:20210408
DTEND;VALUE=DATE:20210409
DTSTAMP;VALUE=DATE-TIME:20260423T021817Z
UID:2a3027ff85c942dcab9cef057b8941df@127.0.0.1:8095
CONTACT:https://global.gotomeeting.com/join/655746861
CREATED;VALUE=DATE-TIME:20210406T083639Z
DESCRIPTION:Webinar
LAST-MODIFIED;VALUE=DATE-TIME:20221129T151637Z
LOCATION:online
URL:https://www.ausl.bologna.it/istituto-delle-scienze-neurologiche/appunt
 amenti-dellistituto/archivio/eventi-passati/presentazione-bussole-irccs-ma
 teriale-biologico-irccs
END:VEVENT
END:VCALENDAR
