BEGIN:VCALENDAR
VERSION:2.0
PRODID:-//Plone.org//NONSGML plone.app.event//EN
X-WR-TIMEZONE:Europe/Rome
BEGIN:VEVENT
SUMMARY:Piattaforma SIRER
DTSTART;VALUE=DATE:20210512
DTEND;VALUE=DATE:20210513
DTSTAMP;VALUE=DATE-TIME:20260423T021756Z
UID:55860d828c464416a3d2a2eca2815c7a@127.0.0.1:8095
ATTENDEE;CN="Corrado Iacono, Segreteria Aziendale CE-AVEC";ROLE=REQ-PARTIC
 IPANT:Corrado Iacono, Segreteria Aziendale CE-AVEC
ATTENDEE;CN="Azienda USL di Bologna";ROLE=REQ-PARTICIPANT:Azienda USL di B
 ologna
CONTACT:https://intranet.internal.ausl.bologna.it/news/current/auslnews.20
 21-05-03.7729080459
CREATED;VALUE=DATE-TIME:20210506T153251Z
DESCRIPTION:webinar AUSL
LAST-MODIFIED;VALUE=DATE-TIME:20221129T151637Z
LOCATION:webinar
URL:https://www.ausl.bologna.it/istituto-delle-scienze-neurologiche/appunt
 amenti-dellistituto/archivio/eventi-passati/piattaforma-sirer
END:VEVENT
END:VCALENDAR
