BEGIN:VCALENDAR
VERSION:2.0
PRODID:-//Plone.org//NONSGML plone.app.event//EN
X-WR-TIMEZONE:Europe/Rome
BEGIN:VEVENT
SUMMARY:Piattaforma per teleconsulto Healthmeeting
DTSTART;VALUE=DATE:20210511
DTEND;VALUE=DATE:20210512
DTSTAMP;VALUE=DATE-TIME:20260423T021945Z
UID:ba6a9f09692942d89010bb6d113fce74@127.0.0.1:8095
ATTENDEE;CN="Cesa Scaglione, IRCCS Istituto delle Scienze Neurologiche ";R
 OLE=REQ-PARTICIPANT:Cesa Scaglione, IRCCS Istituto delle Scienze Neurologi
 che 
ATTENDEE;CN="Davide Trapani, Wezen Technologies";ROLE=REQ-PARTICIPANT:Davi
 de Trapani, Wezen Technologies
CREATED;VALUE=DATE-TIME:20210506T100450Z
DESCRIPTION:Seminari IRCCS
LAST-MODIFIED;VALUE=DATE-TIME:20221129T151637Z
LOCATION:webinar
URL:https://www.ausl.bologna.it/istituto-delle-scienze-neurologiche/appunt
 amenti-dellistituto/archivio/eventi-passati/piattaforma-per-teleconsulto-h
 ealthmeeting
END:VEVENT
END:VCALENDAR
