BEGIN:VCALENDAR
VERSION:2.0
PRODID:-//Plone.org//NONSGML plone.app.event//EN
X-WR-TIMEZONE:Europe/Rome
BEGIN:VEVENT
SUMMARY:Piattaforma Database RedCap
DTSTART;VALUE=DATE:20210504
DTEND;VALUE=DATE:20210505
DTSTAMP;VALUE=DATE-TIME:20260423T021653Z
UID:a791e2dd81e045459d5df3fe287fb9a7@127.0.0.1:8095
ATTENDEE;CN="Francesco Nonino, Flavia Baccari";ROLE=REQ-PARTICIPANT:France
 sco Nonino, Flavia Baccari
ATTENDEE;CN="Epidemiologia e Statistica";ROLE=REQ-PARTICIPANT:Epidemiologi
 a e Statistica
ATTENDEE;CN="IRCCS Istituto delle Scienze Neurologiche di Bologna";ROLE=RE
 Q-PARTICIPANT:IRCCS Istituto delle Scienze Neurologiche di Bologna
CREATED;VALUE=DATE-TIME:20210426T160316Z
DESCRIPTION:Seminari IRCCS - Metodologia della Ricerca
LAST-MODIFIED;VALUE=DATE-TIME:20221129T151637Z
LOCATION:Incontro online
URL:https://www.ausl.bologna.it/istituto-delle-scienze-neurologiche/appunt
 amenti-dellistituto/archivio/eventi-passati/piattaforma-database-redcap
END:VEVENT
END:VCALENDAR
