BEGIN:VCALENDAR
VERSION:2.0
PRODID:-//Plone.org//NONSGML plone.app.event//EN
X-WR-TIMEZONE:Europe/Rome
BEGIN:VEVENT
SUMMARY:Piattaforma Database RedCap
DTSTART;VALUE=DATE:20210528
DTEND;VALUE=DATE:20210529
DTSTAMP;VALUE=DATE-TIME:20260422T223338Z
UID:bb1cc11e5c1e4202a3a86f4671919e25@127.0.0.1:8095
CREATED;VALUE=DATE-TIME:20210513T142812Z
DESCRIPTION:Seminari IRCCS - Arancione (REPLICA)
LAST-MODIFIED;VALUE=DATE-TIME:20221129T151635Z
LOCATION:webinar
URL:https://www.ausl.bologna.it/istituto-delle-scienze-neurologiche/appunt
 amenti-dellistituto/archivio/eventi-passati/piattaforma-database-redcap-1
END:VEVENT
END:VCALENDAR
