BEGIN:VCALENDAR
VERSION:2.0
PRODID:-//Plone.org//NONSGML plone.app.event//EN
X-WR-TIMEZONE:Europe/Rome
BEGIN:VEVENT
SUMMARY:PFUE 2022 Scientific Symposium on Rare Diseases
DTSTART;VALUE=DATE:20220228
DTEND;VALUE=DATE:20220301
DTSTAMP;VALUE=DATE-TIME:20260422T223601Z
UID:987633f66c9f4db9bfa0b96b87674976@127.0.0.1:8095
CONTACT:https://www.ejprarediseases.org/event/pfue-2022-scientific-symposi
 um-on-rare-diseases/
CREATED;VALUE=DATE-TIME:20220224T093903Z
LAST-MODIFIED;VALUE=DATE-TIME:20221129T151627Z
URL:https://www.ausl.bologna.it/istituto-delle-scienze-neurologiche/appunt
 amenti-dellistituto/archivio/eventi-passati/pfue-2022-scientific-symposium
 -on-rare-diseases
END:VEVENT
END:VCALENDAR
