BEGIN:VCALENDAR
VERSION:2.0
PRODID:-//Plone.org//NONSGML plone.app.event//EN
X-WR-TIMEZONE:Europe/Rome
BEGIN:VEVENT
SUMMARY:Formazione nel PDTAI per le persone con ictus cerebrale
DTSTART;VALUE=DATE:20211206
DTEND;VALUE=DATE:20211207
DTSTAMP;VALUE=DATE-TIME:20260422T223534Z
UID:973152cfdb1041cf9c7d306e84fce9ab@127.0.0.1:8095
CREATED;VALUE=DATE-TIME:20211201T160216Z
DESCRIPTION:1° modulo - Applicazione del protocollo PDTAI nella fase pre-
 ospedaliera e in pronto soccorso
LAST-MODIFIED;VALUE=DATE-TIME:20221129T151630Z
URL:https://www.ausl.bologna.it/istituto-delle-scienze-neurologiche/appunt
 amenti-dellistituto/archivio/eventi-passati/percorso-diagnostico-terapeuti
 co-assistenziale-per-le-persone-con-ictus-cerebrale
END:VEVENT
END:VCALENDAR
