BEGIN:VCALENDAR
VERSION:2.0
PRODID:-//Plone.org//NONSGML plone.app.event//EN
X-WR-TIMEZONE:Europe/Rome
BEGIN:VEVENT
SUMMARY:Formazione nel PDTAI per le persone con ictus cerebrale
DTSTART;VALUE=DATE:20220406
DTEND;VALUE=DATE:20220407
DTSTAMP;VALUE=DATE-TIME:20260422T223534Z
UID:dda28af065104fb1948070d56d4583a5@127.0.0.1:8095
CREATED;VALUE=DATE-TIME:20211207T145127Z
DESCRIPTION:5° modulo - Applicazione dei protocolli di riabilitazione
LAST-MODIFIED;VALUE=DATE-TIME:20221129T151629Z
URL:https://www.ausl.bologna.it/istituto-delle-scienze-neurologiche/appunt
 amenti-dellistituto/archivio/eventi-passati/percorso-diagnostico-terapeuti
 co-assistenziale-per-le-persone-con-ictus-cerebrale-4
END:VEVENT
END:VCALENDAR
