BEGIN:VCALENDAR
VERSION:2.0
PRODID:-//Plone.org//NONSGML plone.app.event//EN
X-WR-TIMEZONE:Europe/Rome
BEGIN:VEVENT
SUMMARY:Formazione nel PDTAI per le persone con ictus cerebrale
DTSTART;VALUE=DATE:20220309
DTEND;VALUE=DATE:20220310
DTSTAMP;VALUE=DATE-TIME:20260422T223534Z
UID:1765739a3d144454a7b6ca0590012e9d@127.0.0.1:8095
CREATED;VALUE=DATE-TIME:20211207T144456Z
DESCRIPTION:4° modulo - Applicazione dei protocolli nell'ictus intraosped
 aliero
LAST-MODIFIED;VALUE=DATE-TIME:20221129T151629Z
URL:https://www.ausl.bologna.it/istituto-delle-scienze-neurologiche/appunt
 amenti-dellistituto/archivio/eventi-passati/percorso-diagnostico-terapeuti
 co-assistenziale-per-le-persone-con-ictus-cerebrale-3
END:VEVENT
END:VCALENDAR
