BEGIN:VCALENDAR
VERSION:2.0
PRODID:-//Plone.org//NONSGML plone.app.event//EN
X-WR-TIMEZONE:Europe/Rome
BEGIN:VEVENT
SUMMARY:Formazione nel PDTAI per le persone con ictus cerebrale
DTSTART;VALUE=DATE:20220202
DTEND;VALUE=DATE:20220203
DTSTAMP;VALUE=DATE-TIME:20260422T223534Z
UID:d44dcf0a46a44546aea2b81e7f1dd6bb@127.0.0.1:8095
CREATED;VALUE=DATE-TIME:20211207T144150Z
DESCRIPTION:3° modulo - Emorragia intra-assiale
LAST-MODIFIED;VALUE=DATE-TIME:20221129T151629Z
URL:https://www.ausl.bologna.it/istituto-delle-scienze-neurologiche/appunt
 amenti-dellistituto/archivio/eventi-passati/percorso-diagnostico-terapeuti
 co-assistenziale-per-le-persone-con-ictus-cerebrale-2
END:VEVENT
END:VCALENDAR
