BEGIN:VCALENDAR
VERSION:2.0
PRODID:-//Plone.org//NONSGML plone.app.event//EN
X-WR-TIMEZONE:Europe/Rome
BEGIN:VEVENT
SUMMARY:ParkLink Bologna: Piattaforma per il monitoraggio prospettico di P
 arkinson/Parkinsonismi
DTSTART;VALUE=DATE:20211110
DTEND;VALUE=DATE:20211111
DTSTAMP;VALUE=DATE-TIME:20260422T224043Z
UID:a3d4d9933b9644e4aaf407aa72291caf@127.0.0.1:8095
CREATED;VALUE=DATE-TIME:20211005T112014Z
DESCRIPTION:Seminari IRCCS - Giallo
LAST-MODIFIED;VALUE=DATE-TIME:20221129T151632Z
URL:https://www.ausl.bologna.it/istituto-delle-scienze-neurologiche/appunt
 amenti-dellistituto/archivio/eventi-passati/parklink-bologna-piattaforma-p
 er-il-monitoraggio-prospettico-di-parkinson-parkinsonismi
END:VEVENT
END:VCALENDAR
