BEGIN:VCALENDAR
VERSION:2.0
PRODID:-//Plone.org//NONSGML plone.app.event//EN
X-WR-TIMEZONE:Europe/Rome
BEGIN:VEVENT
SUMMARY:Parkinson e… terapie\, attività fisica\, yoga\, tango e canto
DTSTART;TZID=Europe/Rome;VALUE=DATE-TIME:20221126T100000
DTEND;TZID=Europe/Rome;VALUE=DATE-TIME:20221126T123000
DTSTAMP;VALUE=DATE-TIME:20260423T022004Z
UID:f93a3685e54e4f52a242de20c64e3b0f@127.0.0.1:8095
CREATED;VALUE=DATE-TIME:20221116T140305Z
DESCRIPTION:In occasione della Giornata Nazionale Parkinson\, sabato 26 no
 vembre\, alle 10\, un incontro dedicato ai pazienti e alle loro famiglie.
LAST-MODIFIED;VALUE=DATE-TIME:20221129T151638Z
LOCATION:sede Associazione Iniziativa Parkinsoniani\, Via Lombardia 36\, B
 ologna
URL:https://www.ausl.bologna.it/istituto-delle-scienze-neurologiche/appunt
 amenti-dellistituto/archivio/eventi-passati/parkinson-e-terapie-attivita-f
 isica-yoga-tango-e-canto
END:VEVENT
BEGIN:VTIMEZONE
TZID:Europe/Rome
X-LIC-LOCATION:Europe/Rome
BEGIN:STANDARD
DTSTART;VALUE=DATE-TIME:20221030T020000
TZNAME:CET
TZOFFSETFROM:+0200
TZOFFSETTO:+0100
END:STANDARD
END:VTIMEZONE
END:VCALENDAR
