BEGIN:VCALENDAR
VERSION:2.0
PRODID:-//Plone.org//NONSGML plone.app.event//EN
X-WR-TIMEZONE:Europe/Rome
BEGIN:VEVENT
SUMMARY:Ortesi e ausili nelle gravi disabilità neuromotorie dell’età e
 volutiva
DTSTART;VALUE=DATE:20210727
DTEND;VALUE=DATE:20210728
DTSTAMP;VALUE=DATE-TIME:20260422T224022Z
UID:82af2cae080c40979b22b7f443a14ead@127.0.0.1:8095
CREATED;VALUE=DATE-TIME:20210630T145732Z
DESCRIPTION:Webinar IRCCS - Blu
LAST-MODIFIED;VALUE=DATE-TIME:20221129T151633Z
URL:https://www.ausl.bologna.it/istituto-delle-scienze-neurologiche/appunt
 amenti-dellistituto/archivio/eventi-passati/ortesi-e-ausili-nelle-gravi-di
 sabilita-neuromotorie-dell2019eta-evolutiva
END:VEVENT
END:VCALENDAR
