BEGIN:VCALENDAR
VERSION:2.0
PRODID:-//Plone.org//NONSGML plone.app.event//EN
X-WR-TIMEZONE:Europe/Rome
BEGIN:VEVENT
SUMMARY:Nutrizione e disabilità: una sfida per migliorare la qualità del
 la vita.
DTSTART;VALUE=DATE:20211027
DTEND;VALUE=DATE:20211028
DTSTAMP;VALUE=DATE-TIME:20260422T223839Z
UID:55e5b5c367eb4c799e295bc01f62d13c@127.0.0.1:8095
CREATED;VALUE=DATE-TIME:20211014T104016Z
DESCRIPTION:Il progetto ENNEADI European Network in Nutritional Education 
 for Acquired Disabilities.
LAST-MODIFIED;VALUE=DATE-TIME:20221129T151631Z
LOCATION:Bologna\, Teatro Dehon - via Libia\, 59
URL:https://www.ausl.bologna.it/istituto-delle-scienze-neurologiche/appunt
 amenti-dellistituto/archivio/eventi-passati/nutrizione-e-disabilita-una-sf
 ida-per-migliorare-la-qualita-della-vita
END:VEVENT
END:VCALENDAR
