BEGIN:VCALENDAR
VERSION:2.0
PRODID:-//Plone.org//NONSGML plone.app.event//EN
X-WR-TIMEZONE:Europe/Rome
BEGIN:VEVENT
SUMMARY:New MDS criteria for clinical diagnosis of MSA
DTSTART;VALUE=DATE:20220215
DTEND;VALUE=DATE:20220216
DTSTAMP;VALUE=DATE-TIME:20260422T223859Z
UID:a9f6ae7215aa4e7a9487bff4b79544b2@127.0.0.1:8095
CREATED;VALUE=DATE-TIME:20220211T095448Z
DESCRIPTION:Seminari IRCCS - BLU
LAST-MODIFIED;VALUE=DATE-TIME:20221129T151627Z
URL:https://www.ausl.bologna.it/istituto-delle-scienze-neurologiche/appunt
 amenti-dellistituto/archivio/eventi-passati/new-mds-criteria-for-clinical-
 diagnosis-of-msa-1
END:VEVENT
END:VCALENDAR
