BEGIN:VCALENDAR
VERSION:2.0
PRODID:-//Plone.org//NONSGML plone.app.event//EN
X-WR-TIMEZONE:Europe/Rome
BEGIN:VEVENT
SUMMARY:Neuro-oftalmologia: profili clinici in età evolutiva e diagnostic
 a strumentale con elettro-retinografia
DTSTART;VALUE=DATE:20220329
DTEND;VALUE=DATE:20220330
DTSTAMP;VALUE=DATE-TIME:20260422T223858Z
UID:dc6b646c6c03406da16ee94b98c717cc@127.0.0.1:8095
CREATED;VALUE=DATE-TIME:20220211T105038Z
DESCRIPTION:seminari IRCCS - Blu
LAST-MODIFIED;VALUE=DATE-TIME:20221129T151627Z
URL:https://www.ausl.bologna.it/istituto-delle-scienze-neurologiche/appunt
 amenti-dellistituto/archivio/eventi-passati/neuro-oftalmologia-profili-cli
 nici-in-eta-evolutiva-e-diagnostica-strumentale-con-elettro-retinografia
END:VEVENT
END:VCALENDAR
