BEGIN:VCALENDAR
VERSION:2.0
PRODID:-//Plone.org//NONSGML plone.app.event//EN
X-WR-TIMEZONE:Europe/Rome
BEGIN:VEVENT
SUMMARY:Navighiamo insieme. Il Centro Sclerosi Multipla dell'ISNB con e pe
 r le donne
DTSTART;VALUE=DATE:20220421
DTEND;VALUE=DATE:20220422
DTSTAMP;VALUE=DATE-TIME:20260422T223839Z
UID:3bbbc690d0ad45b0a3f82e9e3f35ebf1@127.0.0.1:8095
CONTACT:https://teams.microsoft.com/l/meetup-join/19%3ameeting_NzY1NzQ1NmY
 tNDBmYi00ODA1LThhMzMtODIxMzJhODNkYmIy%40thread.v2/0?context=%7b%22Tid%22%3
 a%2209185833-e33a-4d77-8541-9164ad358f14%22%2c%22Oid%22%3a%22c66c50c9-4bd7
 -42c2-baab-70f23ac2f0b9%22%7d
CREATED;VALUE=DATE-TIME:20220419T104952Z
DESCRIPTION:Webinar - Settimana Nazionale per la Salute della Donna
LAST-MODIFIED;VALUE=DATE-TIME:20221129T151626Z
URL:https://www.ausl.bologna.it/istituto-delle-scienze-neurologiche/appunt
 amenti-dellistituto/archivio/eventi-passati/navighiamo-insieme-il-centro-s
 clerosi-multipla-dellisnb-con-e-per-le-donne
END:VEVENT
END:VCALENDAR
