BEGIN:VCALENDAR
VERSION:2.0
PRODID:-//Plone.org//NONSGML plone.app.event//EN
X-WR-TIMEZONE:Europe/Rome
BEGIN:VEVENT
SUMMARY:Musica senza barriere
DTSTART;VALUE=DATE:20220926
DTEND;VALUE=DATE:20220927
DTSTAMP;VALUE=DATE-TIME:20260422T204916Z
UID:f9f531c7a5a947dcbea2aa96bafd6b95@127.0.0.1:8095
CREATED;VALUE=DATE-TIME:20220606T135338Z
DESCRIPTION:L'IRCCS Istituto delle Scienze Neurologiche ospita l'Orchestra
  Cherubini
LAST-MODIFIED;VALUE=DATE-TIME:20221129T151623Z
URL:https://www.ausl.bologna.it/istituto-delle-scienze-neurologiche/appunt
 amenti-dellistituto/archivio/eventi-passati/musica-senza-barriere
END:VEVENT
END:VCALENDAR
