BEGIN:VCALENDAR
VERSION:2.0
PRODID:-//Plone.org//NONSGML plone.app.event//EN
X-WR-TIMEZONE:Europe/Rome
BEGIN:VEVENT
SUMMARY:Microbiota e dieta chetogenica: opportunità e possibili implicazi
 oni terapeutiche nelle epilessie farmaco-resistenti
DTSTART;VALUE=DATE:20221108
DTEND;VALUE=DATE:20221109
DTSTAMP;VALUE=DATE-TIME:20260422T204931Z
UID:3c1f97e5c52b4756a7bc7c621fc40568@127.0.0.1:8095
CATEGORIES:Istituto Scienze Neurologiche
CREATED;VALUE=DATE-TIME:20221020T102748Z
DESCRIPTION:Webinar GIALLO
LAST-MODIFIED;VALUE=DATE-TIME:20221129T151621Z
URL:https://www.ausl.bologna.it/istituto-delle-scienze-neurologiche/appunt
 amenti-dellistituto/archivio/eventi-passati/microbiota-e-dieta-chetogenica
 -opportunita-e-possibili-implicazioni-terapeutiche-nelle-epilessie-farmaco
 -resistenti
END:VEVENT
END:VCALENDAR
