BEGIN:VCALENDAR
VERSION:2.0
PRODID:-//Plone.org//NONSGML plone.app.event//EN
X-WR-TIMEZONE:Europe/Rome
BEGIN:VEVENT
SUMMARY:Interazione dieta/microbiota intestinale: novità dalla ricerca e 
 un focus sul gut-brain axis
DTSTART;VALUE=DATE:20210921
DTEND;VALUE=DATE:20210922
DTSTAMP;VALUE=DATE-TIME:20260422T223337Z
UID:9307fee919ff452ab02c81b7bfeda911@127.0.0.1:8095
CREATED;VALUE=DATE-TIME:20210916T104325Z
DESCRIPTION:Seminario IRCCS - verde
LAST-MODIFIED;VALUE=DATE-TIME:20221129T151632Z
URL:https://www.ausl.bologna.it/istituto-delle-scienze-neurologiche/appunt
 amenti-dellistituto/archivio/eventi-passati/microbioma-intestinale
END:VEVENT
END:VCALENDAR
