BEGIN:VCALENDAR
VERSION:2.0
PRODID:-//Plone.org//NONSGML plone.app.event//EN
X-WR-TIMEZONE:Europe/Rome
BEGIN:VEVENT
SUMMARY:Meet the expert Bologna - Update sull'emorragia subaracnoidea
DTSTART;VALUE=DATE:20210923
DTEND;VALUE=DATE:20210924
DTSTAMP;VALUE=DATE-TIME:20260422T223509Z
UID:e5c2efaeda234b8c97c687f124be35b9@127.0.0.1:8095
CONTACT:info@mymeetingsrl.com\, https://www.mymeetingsrl.com/site/index.ph
 p?idsite=234&lang=&page=1
CREATED;VALUE=DATE-TIME:20210806T161811Z
DESCRIPTION:Incontro in presenza
LAST-MODIFIED;VALUE=DATE-TIME:20221129T151633Z
LOCATION:Relais Bellaria Hotel & Congressi
URL:https://www.ausl.bologna.it/istituto-delle-scienze-neurologiche/appunt
 amenti-dellistituto/archivio/eventi-passati/meet-the-expert-bologna-update
 -sullemorragia-subaracnoidea
END:VEVENT
END:VCALENDAR
