BEGIN:VCALENDAR
VERSION:2.0
PRODID:-//Plone.org//NONSGML plone.app.event//EN
X-WR-TIMEZONE:Europe/Rome
BEGIN:VEVENT
SUMMARY:Master di I livello “Pratiche di consapevolezza e mindfulness in
  neuroscienze e negli ambiti della salute”
DTSTART;VALUE=DATE:20221103
DTEND;VALUE=DATE:20221104
DTSTAMP;VALUE=DATE-TIME:20260422T223534Z
UID:a75baba35c4248049e16b9570548756b@127.0.0.1:8095
CREATED;VALUE=DATE-TIME:20211220T164553Z
DESCRIPTION:Il bando scade il 31 gennaio 2022
LAST-MODIFIED;VALUE=DATE-TIME:20221129T151629Z
URL:https://www.ausl.bologna.it/istituto-delle-scienze-neurologiche/appunt
 amenti-dellistituto/archivio/eventi-passati/master-di-i-livello-201cpratic
 he-di-consapevolezza-e-mindfulness-in-neuroscienze-e-negli-ambiti-della-sa
 lute201d
END:VEVENT
END:VCALENDAR
