BEGIN:VCALENDAR
VERSION:2.0
PRODID:-//Plone.org//NONSGML plone.app.event//EN
X-WR-TIMEZONE:Europe/Rome
BEGIN:VEVENT
SUMMARY:Malattia di Parkinson
DTSTART;VALUE=DATE:20210924
DTEND;VALUE=DATE:20210925
DTSTAMP;VALUE=DATE-TIME:20260422T223509Z
UID:76bb0eb6f16c4e939b62d05538abcc52@127.0.0.1:8095
CREATED;VALUE=DATE-TIME:20210524T110911Z
DESCRIPTION:Corso di aggiornamento - XI Edizione
LAST-MODIFIED;VALUE=DATE-TIME:20221129T151635Z
LOCATION:Parma
URL:https://www.ausl.bologna.it/istituto-delle-scienze-neurologiche/appunt
 amenti-dellistituto/archivio/eventi-passati/malattia-di-parkinson
END:VEVENT
END:VCALENDAR
