BEGIN:VCALENDAR
VERSION:2.0
PRODID:-//Plone.org//NONSGML plone.app.event//EN
X-WR-TIMEZONE:Europe/Rome
BEGIN:VEVENT
SUMMARY:Malattia di Parkinson
DTSTART;VALUE=DATE:20211022
DTEND;VALUE=DATE:20211023
DTSTAMP;VALUE=DATE-TIME:20260422T223509Z
UID:24015a33eae4469181f64c9b8d619172@127.0.0.1:8095
CREATED;VALUE=DATE-TIME:20210524T115421Z
DESCRIPTION:Corso di aggiornamento - XI Edizione
LAST-MODIFIED;VALUE=DATE-TIME:20221129T151635Z
LOCATION:Rovigo
URL:https://www.ausl.bologna.it/istituto-delle-scienze-neurologiche/appunt
 amenti-dellistituto/archivio/eventi-passati/malattia-di-parkinson-1
END:VEVENT
END:VCALENDAR
