BEGIN:VCALENDAR
VERSION:2.0
PRODID:-//Plone.org//NONSGML plone.app.event//EN
X-WR-TIMEZONE:Europe/Rome
BEGIN:VEVENT
SUMMARY:Machihne Learning in neurochirurgia: presente e futuro
DTSTART;VALUE=DATE:20220705
DTEND;VALUE=DATE:20220706
DTSTAMP;VALUE=DATE-TIME:20260422T205528Z
UID:9436fcc1549f4a6cb791fd7e9f928941@127.0.0.1:8095
CREATED;VALUE=DATE-TIME:20220704T111343Z
DESCRIPTION:Seminario Rosso - modalità mista: online e in presenza
LAST-MODIFIED;VALUE=DATE-TIME:20221129T151622Z
LOCATION:in presenza e online
URL:https://www.ausl.bologna.it/istituto-delle-scienze-neurologiche/appunt
 amenti-dellistituto/archivio/eventi-passati/machihne-learning-in-neurochir
 urgia-presente-e-futuro
END:VEVENT
END:VCALENDAR
