BEGIN:VCALENDAR
VERSION:2.0
PRODID:-//Plone.org//NONSGML plone.app.event//EN
X-WR-TIMEZONE:Europe/Rome
BEGIN:VEVENT
SUMMARY:Long-COVID: pronti a fronteggiare l’impatto presente e futuro de
 lla pandemia?
DTSTART;VALUE=DATE:20220209
DTEND;VALUE=DATE:20220210
DTSTAMP;VALUE=DATE-TIME:20260422T223807Z
UID:e2feb4a7a6504fbe853f835ec6e58dc2@127.0.0.1:8095
CREATED;VALUE=DATE-TIME:20220125T144102Z
LAST-MODIFIED;VALUE=DATE-TIME:20221129T151628Z
LOCATION:L'evento sarà fruibile online tramite il link che sarà pubblica
 to sul sito dell’ISS.
URL:https://www.ausl.bologna.it/istituto-delle-scienze-neurologiche/appunt
 amenti-dellistituto/archivio/eventi-passati/long-covid-pronti-a-fronteggia
 re-l2019impatto-presente-e-futuro-della-pandemia
END:VEVENT
END:VCALENDAR
