BEGIN:VCALENDAR
VERSION:2.0
PRODID:-//Plone.org//NONSGML plone.app.event//EN
X-WR-TIMEZONE:Europe/Rome
BEGIN:VEVENT
SUMMARY:Le reti\, la ricerca e l'assistenza per i pazienti con neoplasie c
 erebrali: dove eravamo rimasti e dove stiamo andando
DTSTART;VALUE=DATE:20221107
DTEND;VALUE=DATE:20221108
DTSTAMP;VALUE=DATE-TIME:20260422T205919Z
UID:a51933436a284ab8a0e90b8fd66bfbac@127.0.0.1:8095
CREATED;VALUE=DATE-TIME:20220906T122020Z
DESCRIPTION:Lunedì 7 novembre\, a Bologna\, un convegno organizzato da En
 rico Franceschi\, direttore dell’Oncologia del Sistema Nervoso dell’IR
 CCS Istituto delle Scienze Neurologiche di Bologna
LAST-MODIFIED;VALUE=DATE-TIME:20221129T151622Z
LOCATION:Palazzo Pepoli\, via Castiglione 8\, Bologna
URL:https://www.ausl.bologna.it/istituto-delle-scienze-neurologiche/appunt
 amenti-dellistituto/archivio/eventi-passati/le-reti-la-ricerca-e-lassisten
 za-per-i-pazienti-con-neoplasie-cerebrali-dove-eravamo-rimasti-e-dove-stia
 mo-andando
END:VEVENT
END:VCALENDAR
