BEGIN:VCALENDAR
VERSION:2.0
PRODID:-//Plone.org//NONSGML plone.app.event//EN
X-WR-TIMEZONE:Europe/Rome
BEGIN:VEVENT
SUMMARY:Le cure palliative in età pediatrica
DTSTART;VALUE=DATE:20220222
DTEND;VALUE=DATE:20220223
DTSTAMP;VALUE=DATE-TIME:20260422T223509Z
UID:2a77acff88044fa6851781e077ae2559@127.0.0.1:8095
CREATED;VALUE=DATE-TIME:20220211T104323Z
DESCRIPTION:Seminari IRCCS - Blu
LAST-MODIFIED;VALUE=DATE-TIME:20221129T151627Z
URL:https://www.ausl.bologna.it/istituto-delle-scienze-neurologiche/appunt
 amenti-dellistituto/archivio/eventi-passati/le-cure-palliative-in-eta-pedi
 atrica
END:VEVENT
END:VCALENDAR
