BEGIN:VCALENDAR
VERSION:2.0
PRODID:-//Plone.org//NONSGML plone.app.event//EN
X-WR-TIMEZONE:Europe/Rome
BEGIN:VEVENT
SUMMARY:Le attività psicologiche con il paziente\, le famiglie e i profes
 sionisti\, nella filiera riabilitativa del neurotrama
DTSTART;VALUE=DATE:20211119
DTEND;VALUE=DATE:20211120
DTSTAMP;VALUE=DATE-TIME:20260422T224048Z
UID:360b5e5dc66347379e342d6ccd88adba@127.0.0.1:8095
CREATED;VALUE=DATE-TIME:20211005T145829Z
DESCRIPTION:Attenzione: Rinviato
LAST-MODIFIED;VALUE=DATE-TIME:20221129T151631Z
LOCATION:Aula Magna\, Ospedale Maggiore - Largo Nigrisoli\, 2 - Bologna
URL:https://www.ausl.bologna.it/istituto-delle-scienze-neurologiche/appunt
 amenti-dellistituto/archivio/eventi-passati/le-attivita-psicologiche-con-i
 l-paziente-le-famiglie-e-i-professionisti-nella-filiera-riabilitativa-del-
 neurotrama
END:VEVENT
END:VCALENDAR
