BEGIN:VCALENDAR
VERSION:2.0
PRODID:-//Plone.org//NONSGML plone.app.event//EN
X-WR-TIMEZONE:Europe/Rome
BEGIN:VEVENT
SUMMARY:La sonnolenza patologica nel bambino e nell'adulto: un problema 
 multidimensionale
DTSTART;VALUE=DATE:20201121
DTEND;VALUE=DATE:20201122
DTSTAMP;VALUE=DATE-TIME:20260423T022143Z
UID:d34eaf5c2e7c4e1d909d4cef4b06b113@127.0.0.1:8095
ATTENDEE;CN="Organizzato da ISNB e AIN";ROLE=REQ-PARTICIPANT:Organizzato d
 a ISNB e AIN
CREATED;VALUE=DATE-TIME:20201120T104011Z
DESCRIPTION:VII Seminario - Diagnosi e trattamento multidisciplinare dell
 a narcolessia
LAST-MODIFIED;VALUE=DATE-TIME:20221129T151638Z
LOCATION:online
URL:https://www.ausl.bologna.it/istituto-delle-scienze-neurologiche/appunt
 amenti-dellistituto/archivio/eventi-passati/la-sonnolenza-patologica-nel-b
 ambino-e-nelladulto-un-problema-multidimensionale
END:VEVENT
END:VCALENDAR
