BEGIN:VCALENDAR
VERSION:2.0
PRODID:-//Plone.org//NONSGML plone.app.event//EN
X-WR-TIMEZONE:Europe/Rome
BEGIN:VEVENT
SUMMARY:La Neurotossicità associata alla CAR-T Cell Therapy
DTSTART;VALUE=DATE:20210518
DTEND;VALUE=DATE:20210519
DTSTAMP;VALUE=DATE-TIME:20260423T021843Z
UID:2064892ab8704e329b78817978b99c71@127.0.0.1:8095
ATTENDEE;CN="Maria Guarino, Giulia Amore, Francesca Bisulli, Umberto Pensa
 to, Lorenzo Muccioli ";ROLE=REQ-PARTICIPANT:Maria Guarino, Giulia Amore, F
 rancesca Bisulli, Umberto Pensato, Lorenzo Muccioli 
CREATED;VALUE=DATE-TIME:20210510T104415Z
DESCRIPTION:Seminario IRCCS - verde
LAST-MODIFIED;VALUE=DATE-TIME:20221129T151637Z
LOCATION:webinar
URL:https://www.ausl.bologna.it/istituto-delle-scienze-neurologiche/appunt
 amenti-dellistituto/archivio/eventi-passati/la-neurotossicita-associata-al
 la-car-t-cell-therapy
END:VEVENT
END:VCALENDAR
