BEGIN:VCALENDAR
VERSION:2.0
PRODID:-//Plone.org//NONSGML plone.app.event//EN
X-WR-TIMEZONE:Europe/Rome
BEGIN:VEVENT
SUMMARY:La gestione integrata del paziente con Apnee ostruttive del sonno 
 e sonnolenza residua
DTSTART;VALUE=DATE:20220129
DTEND;VALUE=DATE:20220130
DTSTAMP;VALUE=DATE-TIME:20260422T223851Z
UID:ef62e15b4e2b4b9b924087eb5d577563@127.0.0.1:8095
CREATED;VALUE=DATE-TIME:20220118T142625Z
DESCRIPTION:Esperienze a confronto
LAST-MODIFIED;VALUE=DATE-TIME:20221129T151628Z
LOCATION:Aula Magna Anatomia Umana - Università di Bologna
URL:https://www.ausl.bologna.it/istituto-delle-scienze-neurologiche/appunt
 amenti-dellistituto/archivio/eventi-passati/la-gestione-integrata-del-pazi
 ente-con-apnee-ostruttive-del-sonno-e-sonnolenza-residua
END:VEVENT
END:VCALENDAR
