BEGIN:VCALENDAR
VERSION:2.0
PRODID:-//Plone.org//NONSGML plone.app.event//EN
X-WR-TIMEZONE:Europe/Rome
BEGIN:VEVENT
SUMMARY:La demenza e i disturbi cognitivi giovanili\, atipici e lievi: dia
 logo con i ricercatori
DTSTART;VALUE=DATE:20211106
DTEND;VALUE=DATE:20211107
DTSTAMP;VALUE=DATE-TIME:20260422T223709Z
UID:04cdd83ab2d5461f803a5906156a3d6a@127.0.0.1:8095
CREATED;VALUE=DATE-TIME:20211026T090836Z
DESCRIPTION:Evento in presenza
LAST-MODIFIED;VALUE=DATE-TIME:20221129T151631Z
LOCATION:Aula Magna Centro Servizi Didattici della Facoltà di Medicina e 
 Chirurgia\, Policlinico di Modena\, Via del Pozzo 71
URL:https://www.ausl.bologna.it/istituto-delle-scienze-neurologiche/appunt
 amenti-dellistituto/archivio/eventi-passati/la-demenza-e-i-disturbi-cognit
 ivi-giovanili-atipici-e-lievi-dialogo-con-i-ricercatori
END:VEVENT
END:VCALENDAR
