BEGIN:VCALENDAR
VERSION:2.0
PRODID:-//Plone.org//NONSGML plone.app.event//EN
X-WR-TIMEZONE:Europe/Rome
BEGIN:VEVENT
SUMMARY:IRCCS Patologie Ambientali: la giunta e l’impegno locale - Risor
 se per lo sviluppo e la crescita del nostro territorio
DTSTART;VALUE=DATE:20220926
DTEND;VALUE=DATE:20220927
DTSTAMP;VALUE=DATE-TIME:20260422T205919Z
UID:155f3c86faff4df38c3b6bb848b5e7d1@127.0.0.1:8095
CREATED;VALUE=DATE-TIME:20220603T113948Z
DESCRIPTION:Giornata informativa a favore dei finanziamenti per lo svilupp
 o e la crescita del nostro territorio.
LAST-MODIFIED;VALUE=DATE-TIME:20221129T151623Z
URL:https://www.ausl.bologna.it/istituto-delle-scienze-neurologiche/appunt
 amenti-dellistituto/archivio/eventi-passati/irccs-patologie-ambientali-la-
 giunta-e-l2019impegno-locale-risorse-per-lo-sviluppo-e-la-crescita-del-nos
 tro-territorio
END:VEVENT
END:VCALENDAR
