BEGIN:VCALENDAR
VERSION:2.0
PRODID:-//Plone.org//NONSGML plone.app.event//EN
X-WR-TIMEZONE:Europe/Rome
BEGIN:VEVENT
SUMMARY:Inquadramento clinico diagnostico delle lesioni tumorali intracran
 iche dell’adulto
DTSTART;VALUE=DATE:20220125
DTEND;VALUE=DATE:20220126
DTSTAMP;VALUE=DATE-TIME:20260422T224042Z
UID:c703f5cd7c5947e284cb65c0e924f772@127.0.0.1:8095
CREATED;VALUE=DATE-TIME:20220117T122553Z
DESCRIPTION:Seminario IRCCS - Blu
LAST-MODIFIED;VALUE=DATE-TIME:20221129T151628Z
URL:https://www.ausl.bologna.it/istituto-delle-scienze-neurologiche/appunt
 amenti-dellistituto/archivio/eventi-passati/inquadramento-clinico-diagnost
 ico-delle-lesioni-tumorali-intracraniche-dell2019adulto
END:VEVENT
END:VCALENDAR
