BEGIN:VCALENDAR
VERSION:2.0
PRODID:-//Plone.org//NONSGML plone.app.event//EN
X-WR-TIMEZONE:Europe/Rome
BEGIN:VEVENT
SUMMARY:Innovations in the management of Pituitary - Adrenal disorders and
  their comorbidities
DTSTART;VALUE=DATE:20201218
DTEND;VALUE=DATE:20201219
DTSTAMP;VALUE=DATE-TIME:20260423T022004Z
UID:7b8cc1e4dc6f4dba9c3432cf99b14398@127.0.0.1:8095
CREATED;VALUE=DATE-TIME:20201120T111617Z
LAST-MODIFIED;VALUE=DATE-TIME:20221129T151638Z
URL:https://www.ausl.bologna.it/istituto-delle-scienze-neurologiche/appunt
 amenti-dellistituto/archivio/eventi-passati/innovations-in-the-management-
 of-pituitary-adrenal-disorders-and-their-comorbidities
END:VEVENT
END:VCALENDAR
