BEGIN:VCALENDAR
VERSION:2.0
PRODID:-//Plone.org//NONSGML plone.app.event//EN
X-WR-TIMEZONE:Europe/Rome
BEGIN:VEVENT
SUMMARY:Il ruolo della Pituitary Unit della Rete delle Neuroscienze dell'E
 milia-Romagna
DTSTART;VALUE=DATE:20201219
DTEND;VALUE=DATE:20201220
DTSTAMP;VALUE=DATE-TIME:20260423T021755Z
UID:b4d2bb9a9ad34750adb2d14bcc49fdad@127.0.0.1:8095
CONTACT:abianconi@duecipromotion.com
CREATED;VALUE=DATE-TIME:20201211T103830Z
DESCRIPTION:Dall'assistenza alla ricerca scientifica clinica\, traslaziona
 le e molecolare
LAST-MODIFIED;VALUE=DATE-TIME:20221129T151638Z
LOCATION:Congresso online
URL:https://www.ausl.bologna.it/istituto-delle-scienze-neurologiche/appunt
 amenti-dellistituto/archivio/eventi-passati/il-ruolo-della-pituitary-unit-
 della-rete-delle-neuroscienze-dellemilia-romagna
END:VEVENT
END:VCALENDAR
