BEGIN:VCALENDAR
VERSION:2.0
PRODID:-//Plone.org//NONSGML plone.app.event//EN
X-WR-TIMEZONE:Europe/Rome
BEGIN:VEVENT
SUMMARY:Il ruolo della Neuroradiologia nella diagnosi differenziale nei di
 sturbi del movimento
DTSTART;VALUE=DATE:20210928
DTEND;VALUE=DATE:20210929
DTSTAMP;VALUE=DATE-TIME:20260422T223702Z
UID:79421bb116dc4330a92704de0ef0097e@127.0.0.1:8095
CREATED;VALUE=DATE-TIME:20210908T151847Z
LAST-MODIFIED;VALUE=DATE-TIME:20221129T151632Z
URL:https://www.ausl.bologna.it/istituto-delle-scienze-neurologiche/appunt
 amenti-dellistituto/archivio/eventi-passati/il-ruolo-della-neuroradiologia
 -nella-demenza
END:VEVENT
END:VCALENDAR
