BEGIN:VCALENDAR
VERSION:2.0
PRODID:-//Plone.org//NONSGML plone.app.event//EN
X-WR-TIMEZONE:Europe/Rome
BEGIN:VEVENT
SUMMARY:Il ruolo del terapista occupazionale nel Regno Unito: Ictus dalla 
 fase acuta alla dimissione
DTSTART;VALUE=DATE:20220404
DTEND;VALUE=DATE:20220405
DTSTAMP;VALUE=DATE-TIME:20260422T224043Z
UID:459e739423b847d899cbe77b0f3c9e3f@127.0.0.1:8095
CREATED;VALUE=DATE-TIME:20220315T114153Z
LAST-MODIFIED;VALUE=DATE-TIME:20221129T151626Z
URL:https://www.ausl.bologna.it/istituto-delle-scienze-neurologiche/appunt
 amenti-dellistituto/archivio/eventi-passati/il-ruolo-del-terapista-occupaz
 ionale-nel-regno-unito-ictus-dalla-fase-acuta-alla-dimissione
END:VEVENT
END:VCALENDAR
