BEGIN:VCALENDAR
VERSION:2.0
PRODID:-//Plone.org//NONSGML plone.app.event//EN
X-WR-TIMEZONE:Europe/Rome
BEGIN:VEVENT
SUMMARY:Il placebo\, la speranza e l'intenzionalità di guarigione
DTSTART;VALUE=DATE:20210605
DTEND;VALUE=DATE:20210606
DTSTAMP;VALUE=DATE-TIME:20260422T223726Z
UID:665555989f704df3a1793b600dd4a3c8@127.0.0.1:8095
CREATED;VALUE=DATE-TIME:20210525T113513Z
DESCRIPTION:Convegno in presenza
LAST-MODIFIED;VALUE=DATE-TIME:20221129T151634Z
LOCATION:Cinema Perla Via S. Donato\, 38 - 40127 Bologna
URL:https://www.ausl.bologna.it/istituto-delle-scienze-neurologiche/appunt
 amenti-dellistituto/archivio/eventi-passati/il-placebo-la-speranza-e-linte
 nzionalita-di-guarigione
END:VEVENT
END:VCALENDAR
