BEGIN:VCALENDAR
VERSION:2.0
PRODID:-//Plone.org//NONSGML plone.app.event//EN
X-WR-TIMEZONE:Europe/Rome
BEGIN:VEVENT
SUMMARY:Il PDTA del paziente con malattia di Parkinson
DTSTART;VALUE=DATE:20210608
DTEND;VALUE=DATE:20210609
DTSTAMP;VALUE=DATE-TIME:20260423T021816Z
UID:fe74b8be85694f60a0cb142c58185374@127.0.0.1:8095
CREATED;VALUE=DATE-TIME:20210510T155455Z
DESCRIPTION:Seminari IRCCS - Giallo
LAST-MODIFIED;VALUE=DATE-TIME:20221129T151636Z
LOCATION:webinar
URL:https://www.ausl.bologna.it/istituto-delle-scienze-neurologiche/appunt
 amenti-dellistituto/archivio/eventi-passati/il-pdta-del-paziente-con-malat
 tia-di-parkinson
END:VEVENT
END:VCALENDAR
