BEGIN:VCALENDAR
VERSION:2.0
PRODID:-//Plone.org//NONSGML plone.app.event//EN
X-WR-TIMEZONE:Europe/Rome
BEGIN:VEVENT
SUMMARY:Il paziente con disturbo alimentare grave: trattamento semi-intens
 ivo e ambulatoriale
DTSTART;VALUE=DATE:20210601
DTEND;VALUE=DATE:20210602
DTSTAMP;VALUE=DATE-TIME:20260423T021945Z
UID:169fd176a1c34606ad9debb92e0feeba@127.0.0.1:8095
CONTACT:Segreteria Organizzativa\, +39 375.6069191\, segreteria@aimseventi
 .it\, https://aimseventi.it/dna-trattamento-semi-intensivo-ed-ambulatorial
 e/
CREATED;VALUE=DATE-TIME:20210412T111243Z
DESCRIPTION:FORMAZIONE per tutte le professioni sanitarie
LAST-MODIFIED;VALUE=DATE-TIME:20221129T151637Z
URL:https://www.ausl.bologna.it/istituto-delle-scienze-neurologiche/appunt
 amenti-dellistituto/archivio/eventi-passati/il-paziente-con-disturbo-alime
 ntare-grave-trattamento-semi-intensivo
END:VEVENT
END:VCALENDAR
